BEGIN:VCALENDAR
VERSION:2.0
PRODID:-//Just British - ECPv6.15.20//NONSGML v1.0//EN
CALSCALE:GREGORIAN
METHOD:PUBLISH
X-WR-CALNAME:Just British
X-ORIGINAL-URL:https://justbritish.com
X-WR-CALDESC:Events for Just British
REFRESH-INTERVAL;VALUE=DURATION:PT1H
X-Robots-Tag:noindex
X-PUBLISHED-TTL:PT1H
BEGIN:VTIMEZONE
TZID:America/New_York
BEGIN:DAYLIGHT
TZOFFSETFROM:-0500
TZOFFSETTO:-0400
TZNAME:EDT
DTSTART:20210314T070000
END:DAYLIGHT
BEGIN:STANDARD
TZOFFSETFROM:-0400
TZOFFSETTO:-0500
TZNAME:EST
DTSTART:20211107T060000
END:STANDARD
BEGIN:DAYLIGHT
TZOFFSETFROM:-0500
TZOFFSETTO:-0400
TZNAME:EDT
DTSTART:20220313T070000
END:DAYLIGHT
BEGIN:STANDARD
TZOFFSETFROM:-0400
TZOFFSETTO:-0500
TZNAME:EST
DTSTART:20221106T060000
END:STANDARD
BEGIN:DAYLIGHT
TZOFFSETFROM:-0500
TZOFFSETTO:-0400
TZNAME:EDT
DTSTART:20230312T070000
END:DAYLIGHT
BEGIN:STANDARD
TZOFFSETFROM:-0400
TZOFFSETTO:-0500
TZNAME:EST
DTSTART:20231105T060000
END:STANDARD
END:VTIMEZONE
BEGIN:VEVENT
DTSTART;VALUE=DATE:20220619
DTEND;VALUE=DATE:20220624
DTSTAMP:20260424T103133
CREATED:20210811T130805Z
LAST-MODIFIED:20210916T130151Z
UID:33852-1655596800-1656028799@justbritish.com
SUMMARY:MG2022 - Peterborough\, Canada
DESCRIPTION:The MG Car Club of Toronto and the North American MGB Register are excited to invite you to Peterborough\, gateway to the scenic Kawartha Lakes region of Ontario next June 19-23 for MG2022. Peterborough is located roughly halfway between Toronto and Ottawa and the area boasts some fantastic MG driving roads in Central Ontario’s idyllic cottage country. Peterborough is a vibrant small city that is home to some excellent local attractions. We are thrilled to be heading back to Peterborough after hosting the very first annual convention of the North American MGB Register there back in 1992. \n \nThe organizing committee of MG2022 has been hard at work over the last few months preparing a robust schedule of programs and events that MG enthusiasts of all ages can enjoy. \nHighlights of our program will include the car show held at Nichols Oval Park\, the same location as the car show was held back in 1992. Nichols Oval Park provides us with a fantastic setting for a car show\, offers plenty of shade\, and is only a 5-10 minute drive from the host hotels. We can’t think of a better location to be celebrating the 60th anniversary of the MGB. \nOur tech session lineup is already shaping up to be one not to miss. Alan Vinegar has lined up some fantastic presenters that should provide a diverse range of interesting topics for the MG enthusiast. We are also planning to have the legendary John Twist in attendance to carry out his always popular rolling tech session. \nWe will have several self-guided and organized tours available during MG2022. We are planning some driving events including a local rally and funkhana. We have recently been in discussions with Hagerty in regards to offering a “Shift School” geared towards the next generation of MG enthusiasts. Elaine Kerys and her team have been hard at work contacting local businesses and places of interest. Our Navigators program is shaping up to be fantastic and one of the best ones I have ever seen at an MG event. \nPlans have yet to be finalized but at this point\, we have recently re-affirmed the commitment of our special guest speaker for the awards banquet and we can’t wait to reveal who that person is once we have finalized the arrangements. \nFinally\, we understand COVID has been a tough time for a lot of people. We will be doing our best to monitor the constantly evolving situation. Rest assured that we will be doing everything we can to provide all attendees with the safest and most enjoyable experience possible at MG2022. \nWe look forward to providing you with an update later this year\, closer to when registration opens. Until then\, Safety Fast! \n \n 
URL:https://justbritish.com/event/mg2022-peterborough-canada/
LOCATION:Peterborough\, Peterborough\, Ontario\, Canada
CATEGORIES:Car Show,Gathering / Convention / Meetup,NAMBGR
ATTACH;FMTTYPE=image/jpeg:https://justbritish.com/wp-content/uploads/2021/08/MG2022-Peterborough-Canada.jpg
ORGANIZER;CN="MG Car Club of Toronto":MAILTO:mgna2022event@gmail.com
END:VEVENT
END:VCALENDAR