BEGIN:VCALENDAR
VERSION:2.0
PRODID:-//Just British - ECPv6.15.20//NONSGML v1.0//EN
CALSCALE:GREGORIAN
METHOD:PUBLISH
X-WR-CALNAME:Just British
X-ORIGINAL-URL:https://justbritish.com
X-WR-CALDESC:Events for Just British
REFRESH-INTERVAL;VALUE=DURATION:PT1H
X-Robots-Tag:noindex
X-PUBLISHED-TTL:PT1H
BEGIN:VTIMEZONE
TZID:America/New_York
BEGIN:DAYLIGHT
TZOFFSETFROM:-0500
TZOFFSETTO:-0400
TZNAME:EDT
DTSTART:20230312T070000
END:DAYLIGHT
BEGIN:STANDARD
TZOFFSETFROM:-0400
TZOFFSETTO:-0500
TZNAME:EST
DTSTART:20231105T060000
END:STANDARD
BEGIN:DAYLIGHT
TZOFFSETFROM:-0500
TZOFFSETTO:-0400
TZNAME:EDT
DTSTART:20240310T070000
END:DAYLIGHT
BEGIN:STANDARD
TZOFFSETFROM:-0400
TZOFFSETTO:-0500
TZNAME:EST
DTSTART:20241103T060000
END:STANDARD
BEGIN:DAYLIGHT
TZOFFSETFROM:-0500
TZOFFSETTO:-0400
TZNAME:EDT
DTSTART:20250309T070000
END:DAYLIGHT
BEGIN:STANDARD
TZOFFSETFROM:-0400
TZOFFSETTO:-0500
TZNAME:EST
DTSTART:20251102T060000
END:STANDARD
END:VTIMEZONE
BEGIN:VEVENT
DTSTART;TZID=America/New_York:20240406T090000
DTEND;TZID=America/New_York:20240406T160000
DTSTAMP:20260423T215322
CREATED:20240103T175059Z
LAST-MODIFIED:20240103T175059Z
UID:38914-1712394000-1712419200@justbritish.com
SUMMARY:Carolina British Classic XVI - Cayce\, SC
DESCRIPTION:Please Note: Everyone attending the show must be registered. Registration for Carolina British Classic XVI includes entrance into the Tartan Day South festivities. \nSchedule: \nTartan Day South Festivities All Weekend\nRegistration/Parking 9:00am – 11:00am\nEarly Bird Welcome reception 9:00am – 10:30am\nPick up boxed lunch 12:30pm – 1:00pm\nVoting 11:00am – 1:00pm\nAwards Presentation 2:00pm \nSunbeams at Carolina British Classic XVI
URL:https://justbritish.com/event/carolina-british-classic-xvi-cayce-sc/
LOCATION:Historic Columbia Motor Speedway\, 2001 Charleston Highway\, Cayce\, SC\, 29033\, United States
CATEGORIES:Car Show,Just British Attending
ATTACH;FMTTYPE=image/png:https://justbritish.com/wp-content/uploads/2024/01/Carolina-British-Classic-XVI-Logo.png
ORGANIZER;CN="British Car Club Midlands Centre":MAILTO:bccmc1@gmail.com
END:VEVENT
BEGIN:VEVENT
DTSTART;VALUE=DATE:20240427
DTEND;VALUE=DATE:20240428
DTSTAMP:20260423T215322
CREATED:20240413T233223Z
LAST-MODIFIED:20240413T233223Z
UID:39882-1714176000-1714262399@justbritish.com
SUMMARY:The Lowcountry Series 2024 for Land Rovers - Charleston\, SC
DESCRIPTION:There is a Classic Land Rover event on Saturday\, April 27th. It will be held at Patriots Point\, is called The Lowcountry Series\, and is an offshoot of the Vineyard Series Events. This is their first event down south. \nThere are currently about 90 classic Rovers registered. It should be a great event. \nIf you are unfamiliar with Vineyard Series events\, they host classic Land Rover-based lifestyle events annually on Martha’s Vineyard\, Nantucket\, and Cape Cod. They are excited to expand our offerings down south this spring. \nOther events in the 2024 Schedule \nThe Palm Beach Series\nSunday\, January 21st\nPalm Beach\, FL \nThe Lowcountry Series\nFriday – Saturday\, April 26th – 27th\nMount Pleasant\, SC \nThe Nantucket Series\nSaturday – Sunday\, July 13th – 14th\nNantucket\, MA \nThe Vineyard Series\nFriday – Sunday\, July 26th – 28th\nMartha’s Vineyard\, MA \nRovers and Relaxation\nEarly September*\nFairfield County\, CT \nThe Cape Cod Series\nSunday\, September 29th*\nDennis\, MA \nThe Capital Series\nOctober 2024*\nWashington\, DC \n*Pending Confirmation
URL:https://justbritish.com/event/the-lowcountry-series-2024-for-land-rovers-charleston-sc/
LOCATION:Patriots Point\, 40 Patriots Point Rd\, Mt. Pleasant\, SC\, 29464\, United States
CATEGORIES:Gathering / Convention / Meetup
ATTACH;FMTTYPE=image/jpeg:https://justbritish.com/wp-content/uploads/2024/04/The-Lowcountry-Series-2024-Land-Rover.jpg
END:VEVENT
END:VCALENDAR