BEGIN:VCALENDAR
VERSION:2.0
PRODID:-//Just British - ECPv6.15.20//NONSGML v1.0//EN
CALSCALE:GREGORIAN
METHOD:PUBLISH
X-ORIGINAL-URL:https://justbritish.com
X-WR-CALDESC:Events for Just British
REFRESH-INTERVAL;VALUE=DURATION:PT1H
X-Robots-Tag:noindex
X-PUBLISHED-TTL:PT1H
BEGIN:VTIMEZONE
TZID:America/New_York
BEGIN:DAYLIGHT
TZOFFSETFROM:-0500
TZOFFSETTO:-0400
TZNAME:EDT
DTSTART:20230312T070000
END:DAYLIGHT
BEGIN:STANDARD
TZOFFSETFROM:-0400
TZOFFSETTO:-0500
TZNAME:EST
DTSTART:20231105T060000
END:STANDARD
BEGIN:DAYLIGHT
TZOFFSETFROM:-0500
TZOFFSETTO:-0400
TZNAME:EDT
DTSTART:20240310T070000
END:DAYLIGHT
BEGIN:STANDARD
TZOFFSETFROM:-0400
TZOFFSETTO:-0500
TZNAME:EST
DTSTART:20241103T060000
END:STANDARD
BEGIN:DAYLIGHT
TZOFFSETFROM:-0500
TZOFFSETTO:-0400
TZNAME:EDT
DTSTART:20250309T070000
END:DAYLIGHT
BEGIN:STANDARD
TZOFFSETFROM:-0400
TZOFFSETTO:-0500
TZNAME:EST
DTSTART:20251102T060000
END:STANDARD
END:VTIMEZONE
BEGIN:VEVENT
DTSTART;TZID=America/New_York:20241019T080000
DTEND;TZID=America/New_York:20241019T170000
DTSTAMP:20260423T121650
CREATED:20240411T152440Z
LAST-MODIFIED:20240411T152440Z
UID:39854-1729324800-1729357200@justbritish.com
SUMMARY:39th Annual British Car Day - Charleston\, SC
DESCRIPTION:You are cordially invited to join The British Car Club of Charleston\, South Carolina for the 39th Annual British Car Day on October 19th\, 2024. The Spotlight Marque is the Sunbeam with a special celebration of the 60th anniversary of the Tiger. \nThe Show \nBritish Car Day is open to the public. Stop by and bring the family. The only cost is $2pp to enter the park. Enjoy the day seeing the variety of beautiful British cars\, talk with the owners and relax under one of the shelters\, and enjoy a lunch from one of the food trucks. \nBritish Car Day will be at the same venue that we have used for the past few years\, Palmetto Islands County Park.  We have use of the three shelters\, Tall Pine\, Sweet Gum and Big Oak\, as well as the restrooms. Click here to see pictures from the 2023 British Car Day. \nFriday Evening Events \nThe Friday evening Welcome Reception will be at Hyatt Place in Towne Center in Mt Pleasant. Meet other participants and enjoy hors d’oeuvres. It will be at 5 to 9pm.  We are also planning a daytime drive to Hopsewee Plantation. We will leave Hyatt Place at 10am and drive there through scenic Francis Marion National Forest. We will take a tour of the facility and have a light lunch. If you would like you can sign up for one of the many other tours and presentations as there is plenty of time before the Welcome Reception at 5pm. \nHotel \nWe have a block of rooms at Hyatt Place for you at the discounted price of $234 per night. This includes a hot breakfast. Go to the Hyatt Place website at https://www.hyatt.com/en-US/hotel/south-carolina/hyatt-place-mount-pleasant-towne-centre/chszp and use code G-BCCS in the special rates drop down menu under corporate/Group Code. Or\, call the hotel at 843-473-3105 and request a room in the British Car Club Block.
URL:https://justbritish.com/event/39th-annual-british-car-day-charleston-sc/
LOCATION:Palmetto Islands County Park\, 444 Needlerush Pkwy\, Mt Pleasant\, SC\, 29464\, United States
CATEGORIES:Car Show,Just British Attending
ATTACH;FMTTYPE=image/jpeg:https://justbritish.com/wp-content/uploads/2024/04/39th-Annual-British-Car-Day-Charleston-SC.jpg
END:VEVENT
END:VCALENDAR