BEGIN:VCALENDAR
VERSION:2.0
PRODID:-//Just British - ECPv6.15.20//NONSGML v1.0//EN
CALSCALE:GREGORIAN
METHOD:PUBLISH
X-WR-CALNAME:Just British
X-ORIGINAL-URL:https://justbritish.com
X-WR-CALDESC:Events for Just British
REFRESH-INTERVAL;VALUE=DURATION:PT1H
X-Robots-Tag:noindex
X-PUBLISHED-TTL:PT1H
BEGIN:VTIMEZONE
TZID:America/New_York
BEGIN:DAYLIGHT
TZOFFSETFROM:-0500
TZOFFSETTO:-0400
TZNAME:EDT
DTSTART:20220313T070000
END:DAYLIGHT
BEGIN:STANDARD
TZOFFSETFROM:-0400
TZOFFSETTO:-0500
TZNAME:EST
DTSTART:20221106T060000
END:STANDARD
BEGIN:DAYLIGHT
TZOFFSETFROM:-0500
TZOFFSETTO:-0400
TZNAME:EDT
DTSTART:20230312T070000
END:DAYLIGHT
BEGIN:STANDARD
TZOFFSETFROM:-0400
TZOFFSETTO:-0500
TZNAME:EST
DTSTART:20231105T060000
END:STANDARD
BEGIN:DAYLIGHT
TZOFFSETFROM:-0500
TZOFFSETTO:-0400
TZNAME:EDT
DTSTART:20240310T070000
END:DAYLIGHT
BEGIN:STANDARD
TZOFFSETFROM:-0400
TZOFFSETTO:-0500
TZNAME:EST
DTSTART:20241103T060000
END:STANDARD
END:VTIMEZONE
BEGIN:VEVENT
DTSTART;TZID=America/New_York:20231007T080000
DTEND;TZID=America/New_York:20231007T170000
DTSTAMP:20260424T072307
CREATED:20230926T183827Z
LAST-MODIFIED:20230926T183827Z
UID:38406-1696665600-1696698000@justbritish.com
SUMMARY:BRITFEST 2023 - Myrtle Beach\, SC
DESCRIPTION:Myrtle Beach BRITFEST 2023 will be held at The Market Common at the corner of Johnson and Hendrick Avenues in beautiful Myrtle Beach\, South Carolina\, rain or shine\, on Saturday\, October 7\, 2023. Myrtle Beach BRITFEST is the area’s largest British car show\, with room for British cars and motorcycles of every kind! \nPlan ahead! Make a weekend of it in fabulous Myrtle Beach! On Friday\, show participants can join us on a delightful driving tour of beautiful Myrtle Beach\, and have fun at our popular Friday evening reception! \nEnjoy raffles\, gift baskets\, an English Tea\, a Best Hat Competition\, club regalia sales\, and food trucks. Show registrants can vote for their favorite cars with awards presented to winners of the many categories. This year we will be recognizing the 100th Anniversary of MG Sports Cars with a special prize for “My Favorite MG”. \nMyrtle Beach BRITFEST 2023\nDirections\nMyrtle Beach BRITFEST is held on a city block-sized lot (behind the King Street Grille)\, bounded by Johnson and Hendrick Ave\, and Iris and Hackler St. The car show is located just east of Farrow Parkway between Highway 17 Business and Highway 17 By-Pass in the heart of The Market Common district of Myrtle Beach. \nFrom Highway 17 Business:\nTurn west onto Farrow Parkway\, proceed 0.7 miles\, turn right onto Johnson Ave\, and proceed to the BRITFEST car show on the left \nFrom Highway 17 By-Pass:\nExit onto Harrelson Blvd. toward the airport\, proceed past the international airport\, turn right onto S. Kings Highway (Business-17)\, turn right onto Farrow Parkway\, turn right on Johnson Ave.\, and proceed to the BRITFEST car show on the left. \nTrailer Parking is available next to the show field. Restaurants\, breweries\, and many other Myrtle Beach attractions and amenities are in easy walking distance from the show!
URL:https://justbritish.com/event/britfest-2023-myrtle-beach-sc/
LOCATION:The Market Common\, 4017 Deville Street\, Myrtle Beach\, SC\, 29577\, United States
CATEGORIES:Car Show
ATTACH;FMTTYPE=image/jpeg:https://justbritish.com/wp-content/uploads/2015/09/Grand-Strand-British-Car-Club.jpg
ORGANIZER;CN="Grand Strand British Car Club":MAILTO:VP@GrandStrandBritishCarClub.com
END:VEVENT
BEGIN:VEVENT
DTSTART;TZID=America/New_York:20231021T090000
DTEND;TZID=America/New_York:20231021T160000
DTSTAMP:20260424T072307
CREATED:20230926T184914Z
LAST-MODIFIED:20230926T184914Z
UID:38413-1697878800-1697904000@justbritish.com
SUMMARY:38th British Car Day - Charleston\, SC
DESCRIPTION:You are cordially invited to join the members of The British Car Club of Charleston\, South Carolina as they celebrate 100 Years of MG on the weekend of 20-21 October 2023. \nThe festivities will commence on Friday with a picnic or a delightful midday Authentic British Tea at Edisto Hall at James Island County Park. Next\, you can take your car on a tour of the scenic low country of South Carolina ending at Deep Water Vineyard. Friday will end with an evening Welcome Reception. \nThe highlight of Saturday’s events will be the Club’s 38th Annual British Car Show\, featuring a special showcase of MGs that will trace the evolution of this legendary marque. \nDon’t miss this unforgettable celebration! \nAuthentic English Tea in Charleston\, SC
URL:https://justbritish.com/event/38th-british-car-day-charleston-sc/
LOCATION:Palmetto Islands County Park\, 444 Needlerush Pkwy\, Mt Pleasant\, SC\, 29464\, United States
CATEGORIES:Car Show,Just British Attending
ATTACH;FMTTYPE=image/jpeg:https://justbritish.com/wp-content/uploads/2023/09/38th-British-Car-Day-Charleston-SC.jpg
END:VEVENT
END:VCALENDAR