BEGIN:VCALENDAR
VERSION:2.0
PRODID:-//Just British - ECPv6.15.20//NONSGML v1.0//EN
CALSCALE:GREGORIAN
METHOD:PUBLISH
X-ORIGINAL-URL:https://justbritish.com
X-WR-CALDESC:Events for Just British
REFRESH-INTERVAL;VALUE=DURATION:PT1H
X-Robots-Tag:noindex
X-PUBLISHED-TTL:PT1H
BEGIN:VTIMEZONE
TZID:America/New_York
BEGIN:DAYLIGHT
TZOFFSETFROM:-0500
TZOFFSETTO:-0400
TZNAME:EDT
DTSTART:20220313T070000
END:DAYLIGHT
BEGIN:STANDARD
TZOFFSETFROM:-0400
TZOFFSETTO:-0500
TZNAME:EST
DTSTART:20221106T060000
END:STANDARD
BEGIN:DAYLIGHT
TZOFFSETFROM:-0500
TZOFFSETTO:-0400
TZNAME:EDT
DTSTART:20230312T070000
END:DAYLIGHT
BEGIN:STANDARD
TZOFFSETFROM:-0400
TZOFFSETTO:-0500
TZNAME:EST
DTSTART:20231105T060000
END:STANDARD
BEGIN:DAYLIGHT
TZOFFSETFROM:-0500
TZOFFSETTO:-0400
TZNAME:EDT
DTSTART:20240310T070000
END:DAYLIGHT
BEGIN:STANDARD
TZOFFSETFROM:-0400
TZOFFSETTO:-0500
TZNAME:EST
DTSTART:20241103T060000
END:STANDARD
END:VTIMEZONE
BEGIN:VEVENT
DTSTART;TZID=America/New_York:20230115T090000
DTEND;TZID=America/New_York:20230115T150000
DTSTAMP:20260424T000310
CREATED:20221127T223828Z
LAST-MODIFIED:20221127T223828Z
UID:37690-1673773200-1673794800@justbritish.com
SUMMARY:Car and Art at the Botanical and Sculpture Gardens - Punta Gorda\, FL
DESCRIPTION:Invitational International Classic\, Exotic & Sports Car Show\, at 5800 Riverside Dr\, Punta Gorda\, FL 33982\, 9:00 AM to 3:00 PM \nOnly committee-selected and invited vehicles can participate. Classic Cars and Trucks older than 30 years. Exotic Cars and Trucks\, e.g.: low production or vehicles with character. Sports Cars\, e.g.: 2-door coupes or convertibles\, high-performance cars. \nThe Committee now accepts applications for participating vehicles by email to hermannschaller@msn.com. List the year\, brand\, model\, and version (sedan\, convertible\, or coupe)\, your name\, and contact info (please add a photo or two. 150 to 200 participating vehicles. \nOnly one representative vehicle per model (no long row of same-looking cars)If selected and invited\, the registration fee will be $35.00 and includes Gardens entry for two (a $36.00 value). \nEventual profits will go to charity. Classes show the evolution of car models’ design and technology over time. e.g.: MG TA to TF. Judged first and second-place trophies per class.
URL:https://justbritish.com/event/car-and-art-at-the-botanical-and-sculpture-gardens-punta-gorda-fl/
LOCATION:Peace River Botanical & Sculpture Gardens\, 5800 Riverside Dr\, Punta Gorda\, FL\, 33982\, United States
CATEGORIES:Car Show
ATTACH;FMTTYPE=image/png:https://justbritish.com/wp-content/uploads/2022/11/British-Car-Club-of-Southwest-Florida.png
ORGANIZER;CN="British Car Club of Southwest Florida":MAILTO:hermannschaller@msn.com
END:VEVENT
END:VCALENDAR