BEGIN:VCALENDAR
VERSION:2.0
PRODID:-//Just British - ECPv6.15.20//NONSGML v1.0//EN
CALSCALE:GREGORIAN
METHOD:PUBLISH
X-ORIGINAL-URL:https://justbritish.com
X-WR-CALDESC:Events for Just British
REFRESH-INTERVAL;VALUE=DURATION:PT1H
X-Robots-Tag:noindex
X-PUBLISHED-TTL:PT1H
BEGIN:VTIMEZONE
TZID:America/New_York
BEGIN:DAYLIGHT
TZOFFSETFROM:-0500
TZOFFSETTO:-0400
TZNAME:EDT
DTSTART:20210314T070000
END:DAYLIGHT
BEGIN:STANDARD
TZOFFSETFROM:-0400
TZOFFSETTO:-0500
TZNAME:EST
DTSTART:20211107T060000
END:STANDARD
BEGIN:DAYLIGHT
TZOFFSETFROM:-0500
TZOFFSETTO:-0400
TZNAME:EDT
DTSTART:20220313T070000
END:DAYLIGHT
BEGIN:STANDARD
TZOFFSETFROM:-0400
TZOFFSETTO:-0500
TZNAME:EST
DTSTART:20221106T060000
END:STANDARD
BEGIN:DAYLIGHT
TZOFFSETFROM:-0500
TZOFFSETTO:-0400
TZNAME:EDT
DTSTART:20230312T070000
END:DAYLIGHT
BEGIN:STANDARD
TZOFFSETFROM:-0400
TZOFFSETTO:-0500
TZNAME:EST
DTSTART:20231105T060000
END:STANDARD
END:VTIMEZONE
BEGIN:VEVENT
DTSTART;TZID=America/New_York:20220423T093000
DTEND;TZID=America/New_York:20220423T120000
DTSTAMP:20260425T145541
CREATED:20220304T185030Z
LAST-MODIFIED:20220304T185030Z
UID:36638-1650706200-1650715200@justbritish.com
SUMMARY:British Car Roundup 2022 - Albuquerque\, New Mexico
DESCRIPTION:This year’s British Car Roundup will be held on Saturday\, April 23\, at the Jaguar Land Rover Albuquerque dealership\, 5010 Alameda Blvd NE\, Albuquerque\, NM 87113. \nRegistration starts at 9:30 am and the show will run from 10:00 am to Noon. The entry fee is $10 for BAOA members and $20 for non-members. \nLast year we had almost 40 cars\, with everything from a 1951 MG TD to a 2021 Jaguar F-Pace\, with a 1988 Bentley Continental in-between. Click here to browse through the photos of the event. \nWe hope you can make it out this year.
URL:https://justbritish.com/event/british-car-roundup-2022-albuquerque-new-mexico/
LOCATION:Jaguar Land Rover Albuquerque\, 5010 Alameda Blvd\, Albuquerque\, NM\, 87113\, United States
CATEGORIES:Car Show
ATTACH;FMTTYPE=image/png:https://justbritish.com/wp-content/uploads/2022/03/British-Car-Roundup-2022-Albuquerque-New-Mexico.png
ORGANIZER;CN="British Automobile Owners Association":MAILTO:sjblenkushii@outlook.com
END:VEVENT
END:VCALENDAR