BEGIN:VCALENDAR
VERSION:2.0
PRODID:-//Just British - ECPv6.15.20//NONSGML v1.0//EN
CALSCALE:GREGORIAN
METHOD:PUBLISH
X-ORIGINAL-URL:https://justbritish.com
X-WR-CALDESC:Events for Just British
REFRESH-INTERVAL;VALUE=DURATION:PT1H
X-Robots-Tag:noindex
X-PUBLISHED-TTL:PT1H
BEGIN:VTIMEZONE
TZID:America/New_York
BEGIN:DAYLIGHT
TZOFFSETFROM:-0500
TZOFFSETTO:-0400
TZNAME:EDT
DTSTART:20210314T070000
END:DAYLIGHT
BEGIN:STANDARD
TZOFFSETFROM:-0400
TZOFFSETTO:-0500
TZNAME:EST
DTSTART:20211107T060000
END:STANDARD
BEGIN:DAYLIGHT
TZOFFSETFROM:-0500
TZOFFSETTO:-0400
TZNAME:EDT
DTSTART:20220313T070000
END:DAYLIGHT
BEGIN:STANDARD
TZOFFSETFROM:-0400
TZOFFSETTO:-0500
TZNAME:EST
DTSTART:20221106T060000
END:STANDARD
BEGIN:DAYLIGHT
TZOFFSETFROM:-0500
TZOFFSETTO:-0400
TZNAME:EDT
DTSTART:20230312T070000
END:DAYLIGHT
BEGIN:STANDARD
TZOFFSETFROM:-0400
TZOFFSETTO:-0500
TZNAME:EST
DTSTART:20231105T060000
END:STANDARD
END:VTIMEZONE
BEGIN:VEVENT
DTSTART;TZID=America/New_York:20220723T100000
DTEND;TZID=America/New_York:20220723T150000
DTSTAMP:20260422T215801
CREATED:20220304T164615Z
LAST-MODIFIED:20220310T170450Z
UID:36612-1658570400-1658588400@justbritish.com
SUMMARY:BCNH Show of Dreams 2022 - New Hampshire
DESCRIPTION:HEAR YE!!!!  HEAR YE!!!!\nTHE 25TH ANNUAL SHOW OF DREAMS\nTO BENEFIT: \nThe High Hopes Foundation of NH\n&\nThe New Hampshire Food Bank \nis scheduled for\nSaturday\, July 23\, 2022\nPlace: Alvirne Hills House Field\, Hudson\, NH\nTime: 10am to 3pm\nHandicapped parking & restroom available \nFeatured Marques: Triumph Stag\, Triumph TR7\, and Triumph TR8 \n  \nThe British Cars of NH 25th Annual Show of Dreams is a charity fundraiser with all proceeds donated to the High Hopes Foundation of NH and the New Hampshire Food Bank. The show features 29 classes of Antique and classic British cars including two classes for American iron and cars from around the world. \nTrophies are presented in each class.  The field will include Piccadilly Circus where you will find car-related and local craft vendors. \nThere will be DJ entertainment\, the BCNH Mega Raffle and Silent Auction\, Club Regalia demonstrations and displays\, great food\, and fun for the whole family. \nThe show is handicapped-accessible. \nCar registrations: $30.00 pre-show registration; $40.00 Day of Show registration; $10.00 2nd car same owner. Online car registration is available at www.bcnh.org \nSpectators are admitted “free” (donations into the Mini Cooper are greatly appreciated). \nThe show is Sponsored by Davis & Towle Insurance Group\, Historic Motor Sports\, Brit Bits\, Automasters LLC\, Sports Car Art & Ernie Boch Jr. \n 
URL:https://justbritish.com/event/bcnh-show-of-dreams-2022-new-hampshire/
LOCATION:Alvirne Hill House Field\, 211 Derry Road (Route 102)\, Hudson\, NH\, 03051\, United States
CATEGORIES:Car Show
ATTACH;FMTTYPE=image/jpeg:https://justbritish.com/wp-content/uploads/2022/03/BCNH-Show-of-Dreams.jpg
ORGANIZER;CN="British Cars of New Hampshire":MAILTO:dstan1950@gmail.com
END:VEVENT
END:VCALENDAR