BEGIN:VCALENDAR
VERSION:2.0
PRODID:-//Just British - ECPv6.15.20//NONSGML v1.0//EN
CALSCALE:GREGORIAN
METHOD:PUBLISH
X-ORIGINAL-URL:https://justbritish.com
X-WR-CALDESC:Events for Just British
REFRESH-INTERVAL;VALUE=DURATION:PT1H
X-Robots-Tag:noindex
X-PUBLISHED-TTL:PT1H
BEGIN:VTIMEZONE
TZID:America/New_York
BEGIN:DAYLIGHT
TZOFFSETFROM:-0500
TZOFFSETTO:-0400
TZNAME:EDT
DTSTART:20200308T070000
END:DAYLIGHT
BEGIN:STANDARD
TZOFFSETFROM:-0400
TZOFFSETTO:-0500
TZNAME:EST
DTSTART:20201101T060000
END:STANDARD
BEGIN:DAYLIGHT
TZOFFSETFROM:-0500
TZOFFSETTO:-0400
TZNAME:EDT
DTSTART:20210314T070000
END:DAYLIGHT
BEGIN:STANDARD
TZOFFSETFROM:-0400
TZOFFSETTO:-0500
TZNAME:EST
DTSTART:20211107T060000
END:STANDARD
BEGIN:DAYLIGHT
TZOFFSETFROM:-0500
TZOFFSETTO:-0400
TZNAME:EDT
DTSTART:20220313T070000
END:DAYLIGHT
BEGIN:STANDARD
TZOFFSETFROM:-0400
TZOFFSETTO:-0500
TZNAME:EST
DTSTART:20221106T060000
END:STANDARD
END:VTIMEZONE
BEGIN:VEVENT
DTSTART;TZID=America/New_York:20211002T100000
DTEND;TZID=America/New_York:20211002T150000
DTSTAMP:20260423T121723
CREATED:20210703T114906Z
LAST-MODIFIED:20210812T001000Z
UID:33000-1633168800-1633186800@justbritish.com
SUMMARY:Castle in the Clouds Car Show - New Hampshire
DESCRIPTION:View stunning examples of antique cars dating from the turn of the 20th century in an equally stunning setting. Prizes will be awarded for the people’s choice in the featured category (modern classics\, year 2000 to present)\, and the people’s choice outside of the featured category. \nFood and beverages will be available for purchase in the Meadows by Shannon Pond\, where the show will take place. Café in the Clouds will also be open from 11:00am – 4:00pm. \nAdmission to the Car Show is included in the price of your regular admission ticket to tour Castle in the Clouds.  For those coming for the Car Show ONLY\, please enter via Ossipee Park Road and pay a $5 spectator fee (tickets can be purchased in advance at the link above or if paying upon arrival we ask for cash only – please be prepared!).
URL:https://justbritish.com/event/castle-in-the-clouds-car-show-new-hampshire/
LOCATION:Castle in the Clouds\, 455 Old Mountain Road\, Moultonborough\, NH\, 03254\, United States
CATEGORIES:Car Show
ATTACH;FMTTYPE=image/jpeg:https://justbritish.com/wp-content/uploads/2018/02/Castle-Car-Show-at-Castle-in-the-Clouds.jpg
ORGANIZER;CN="Castle in the Clouds":MAILTO:programs@castleintheclouds.org
END:VEVENT
END:VCALENDAR