BEGIN:VCALENDAR
VERSION:2.0
PRODID:-//Just British - ECPv6.15.20//NONSGML v1.0//EN
CALSCALE:GREGORIAN
METHOD:PUBLISH
X-WR-CALNAME:Just British
X-ORIGINAL-URL:https://justbritish.com
X-WR-CALDESC:Events for Just British
REFRESH-INTERVAL;VALUE=DURATION:PT1H
X-Robots-Tag:noindex
X-PUBLISHED-TTL:PT1H
BEGIN:VTIMEZONE
TZID:America/New_York
BEGIN:DAYLIGHT
TZOFFSETFROM:-0500
TZOFFSETTO:-0400
TZNAME:EDT
DTSTART:20220313T070000
END:DAYLIGHT
BEGIN:STANDARD
TZOFFSETFROM:-0400
TZOFFSETTO:-0500
TZNAME:EST
DTSTART:20221106T060000
END:STANDARD
BEGIN:DAYLIGHT
TZOFFSETFROM:-0500
TZOFFSETTO:-0400
TZNAME:EDT
DTSTART:20230312T070000
END:DAYLIGHT
BEGIN:STANDARD
TZOFFSETFROM:-0400
TZOFFSETTO:-0500
TZNAME:EST
DTSTART:20231105T060000
END:STANDARD
BEGIN:DAYLIGHT
TZOFFSETFROM:-0500
TZOFFSETTO:-0400
TZNAME:EDT
DTSTART:20240310T070000
END:DAYLIGHT
BEGIN:STANDARD
TZOFFSETFROM:-0400
TZOFFSETTO:-0500
TZNAME:EST
DTSTART:20241103T060000
END:STANDARD
END:VTIMEZONE
BEGIN:VEVENT
DTSTART;VALUE=DATE:20231103
DTEND;VALUE=DATE:20231106
DTSTAMP:20260421T095044
CREATED:20221129T213330Z
LAST-MODIFIED:20221129T213330Z
UID:37712-1698969600-1699228799@justbritish.com
SUMMARY:Hilton Head Island Motoring Festival & Concours d'Elegance
DESCRIPTION:The Hilton Head Island Concours d’Elegance & Motoring Festival\, honoring rich tradition with southern flair\, will curate a rare collection of automotive delights set against a distinctive Lowcountry backdrop that can only be found here. A Fine Pairing. \nDesigned with purpose and driven by passion since 2002. \nSince its inception\, the Hilton Head Island Concours has continued to elevate every aspect of this unique Lowcountry lifestyle event into an art form. \n1952 Arnolt MG Coupe\, Stan Cryz\, Brooks\, GA – Winner of Rare English Palmetto Award
URL:https://justbritish.com/event/hilton-head-island-motoring-festival-concours-delegance/
LOCATION:Port Royal Golf Club\, 10 Clubhouse Drive\, Hilton Head\, SC\, 29928\, United States
CATEGORIES:Car Show,Concours
ATTACH;FMTTYPE=image/png:https://justbritish.com/wp-content/uploads/2022/03/Hilton-Head-Island-Concours-dElegance-20-Years-Logo.png
END:VEVENT
END:VCALENDAR