BEGIN:VCALENDAR
VERSION:2.0
PRODID:-//Just British - ECPv6.15.20//NONSGML v1.0//EN
CALSCALE:GREGORIAN
METHOD:PUBLISH
X-ORIGINAL-URL:https://justbritish.com
X-WR-CALDESC:Events for Just British
REFRESH-INTERVAL;VALUE=DURATION:PT1H
X-Robots-Tag:noindex
X-PUBLISHED-TTL:PT1H
BEGIN:VTIMEZONE
TZID:America/New_York
BEGIN:DAYLIGHT
TZOFFSETFROM:-0500
TZOFFSETTO:-0400
TZNAME:EDT
DTSTART:20200308T070000
END:DAYLIGHT
BEGIN:STANDARD
TZOFFSETFROM:-0400
TZOFFSETTO:-0500
TZNAME:EST
DTSTART:20201101T060000
END:STANDARD
BEGIN:DAYLIGHT
TZOFFSETFROM:-0500
TZOFFSETTO:-0400
TZNAME:EDT
DTSTART:20210314T070000
END:DAYLIGHT
BEGIN:STANDARD
TZOFFSETFROM:-0400
TZOFFSETTO:-0500
TZNAME:EST
DTSTART:20211107T060000
END:STANDARD
BEGIN:DAYLIGHT
TZOFFSETFROM:-0500
TZOFFSETTO:-0400
TZNAME:EDT
DTSTART:20220313T070000
END:DAYLIGHT
BEGIN:STANDARD
TZOFFSETFROM:-0400
TZOFFSETTO:-0500
TZNAME:EST
DTSTART:20221106T060000
END:STANDARD
END:VTIMEZONE
BEGIN:VEVENT
DTSTART;VALUE=DATE:20211105
DTEND;VALUE=DATE:20211108
DTSTAMP:20260423T012244
CREATED:20210115T193558Z
LAST-MODIFIED:20210815T020850Z
UID:31325-1636070400-1636329599@justbritish.com
SUMMARY:Hilton Head Concours d'Elegance
DESCRIPTION:Hilton Head Island’s own Concours d’Elegance & Motoring Festival offers the best of the best in automotive exhibition\, racing\, dining\, and luxury lifestyle. It’s more than just an event — it’s a multi-day world-class destination experience. And you must be there to experience ​life’s finest moments…curated\, elevated\, refined. \nThe vintage racing in Savannah is October the 21st through the 24th.  The concourse and show events are November  5 – 7\, 2021 on Hilton Head Island. \n \n 
URL:https://justbritish.com/event/hilton-head-concours-delegance/
LOCATION:Port Royal Golf Club\, 10 Clubhouse Drive\, Hilton Head\, SC\, 29928\, United States
CATEGORIES:Car Show,Concours,Driving Tour,Just British Attending,Vintage Racing
ATTACH;FMTTYPE=image/jpeg:https://justbritish.com/wp-content/uploads/2017/09/Hilton-Head-Motoring-Festival-and-Concours-DElegance.jpg
END:VEVENT
END:VCALENDAR