BEGIN:VCALENDAR
VERSION:2.0
PRODID:-//Just British - ECPv6.15.20//NONSGML v1.0//EN
CALSCALE:GREGORIAN
METHOD:PUBLISH
X-WR-CALNAME:Just British
X-ORIGINAL-URL:https://justbritish.com
X-WR-CALDESC:Events for Just British
REFRESH-INTERVAL;VALUE=DURATION:PT1H
X-Robots-Tag:noindex
X-PUBLISHED-TTL:PT1H
BEGIN:VTIMEZONE
TZID:America/New_York
BEGIN:DAYLIGHT
TZOFFSETFROM:-0500
TZOFFSETTO:-0400
TZNAME:EDT
DTSTART:20220313T070000
END:DAYLIGHT
BEGIN:STANDARD
TZOFFSETFROM:-0400
TZOFFSETTO:-0500
TZNAME:EST
DTSTART:20221106T060000
END:STANDARD
BEGIN:DAYLIGHT
TZOFFSETFROM:-0500
TZOFFSETTO:-0400
TZNAME:EDT
DTSTART:20230312T070000
END:DAYLIGHT
BEGIN:STANDARD
TZOFFSETFROM:-0400
TZOFFSETTO:-0500
TZNAME:EST
DTSTART:20231105T060000
END:STANDARD
BEGIN:DAYLIGHT
TZOFFSETFROM:-0500
TZOFFSETTO:-0400
TZNAME:EDT
DTSTART:20240310T070000
END:DAYLIGHT
BEGIN:STANDARD
TZOFFSETFROM:-0400
TZOFFSETTO:-0500
TZNAME:EST
DTSTART:20241103T060000
END:STANDARD
END:VTIMEZONE
BEGIN:VEVENT
DTSTART;VALUE=DATE:20230602
DTEND;VALUE=DATE:20230605
DTSTAMP:20260424T121536
CREATED:20230510T184238Z
LAST-MODIFIED:20230510T184238Z
UID:37946-1685664000-1685923199@justbritish.com
SUMMARY:2023 Champagne British Car Festival - IL
DESCRIPTION:Welcome Reception & Event Packet Pickup – Friday\, June 2nd\, 2023\, 5:00 to 9:00 PM – Registered entrants “Start Your Engines” and your Festival weekend by joining us Friday evening\, June 2nd for a Welcome Reception\, sponsored by the Illinois Flat Land British Car Club (IFLBCC) at The Chateau Hotel and Conference Center \nSelf-Guided Rally to Historic Pontiac\, Il – Saturday\,  June 3rd 2023 – 9:00 AM  – The fun continues Saturday morning\, June 3\, with a self-guided rally to Historic Pontiac\, IL where the city parking lot will be reserved for our use. \nCBCF Banquet Celebrating 100 Years of MG – Saturday June 3rd\, 2023 – 5:30 PM – The CBCF sit-down banquet will be held in the newly renovated Chateau Hotel and Conference Center’s ballroom. \nSaturday evening’s banquet will feature this year’s Honorary Chairman and Guest Speaker\, John Twist. John Twist is the MG guru behind Michigan’s University Motors who has helped countless people maintain\, restore\, and understand their MGs. \nCBCF Car Show – Sunday June 4th\, 2023 – 9:00 AM – 4:00 PM– The weekend culminates with the Champagne British Car Show on beautiful Clover Lawn of David Davis Mansion\, Bloomington\, IL.  The David Davis Mansion provides a wonderful backdrop to display over 125 British cars at this popular annual event\, organized by members of the Illinois Flat Land British Car Club. \nAwards – All registered vehicles will be entered into one of 21 marque specific classes Voting will be a “Popular Vote” by registered participants. The total number of Class awards will be based on the number of cars pre-registered.
URL:https://justbritish.com/event/2023-champagne-british-car-festival-il/
LOCATION:David Davis Mansion\, 1000 Monroe Drive\, Bloomington\, IL\, 61701\, United States
CATEGORIES:Car Show,Gathering / Convention / Meetup
ATTACH;FMTTYPE=image/jpeg:https://justbritish.com/wp-content/uploads/2023/05/2023-Champagne-British-Car-Festival-IL.jpg
ORGANIZER;CN="llinois Flatland British Car Club":MAILTO:bjdavis@PaddysGarage.com
END:VEVENT
END:VCALENDAR