BEGIN:VCALENDAR
VERSION:2.0
PRODID:-//Just British - ECPv6.15.20//NONSGML v1.0//EN
CALSCALE:GREGORIAN
METHOD:PUBLISH
X-WR-CALNAME:Just British
X-ORIGINAL-URL:https://justbritish.com
X-WR-CALDESC:Events for Just British
REFRESH-INTERVAL;VALUE=DURATION:PT1H
X-Robots-Tag:noindex
X-PUBLISHED-TTL:PT1H
BEGIN:VTIMEZONE
TZID:America/New_York
BEGIN:DAYLIGHT
TZOFFSETFROM:-0500
TZOFFSETTO:-0400
TZNAME:EDT
DTSTART:20210314T070000
END:DAYLIGHT
BEGIN:STANDARD
TZOFFSETFROM:-0400
TZOFFSETTO:-0500
TZNAME:EST
DTSTART:20211107T060000
END:STANDARD
BEGIN:DAYLIGHT
TZOFFSETFROM:-0500
TZOFFSETTO:-0400
TZNAME:EDT
DTSTART:20220313T070000
END:DAYLIGHT
BEGIN:STANDARD
TZOFFSETFROM:-0400
TZOFFSETTO:-0500
TZNAME:EST
DTSTART:20221106T060000
END:STANDARD
BEGIN:DAYLIGHT
TZOFFSETFROM:-0500
TZOFFSETTO:-0400
TZNAME:EDT
DTSTART:20230312T070000
END:DAYLIGHT
BEGIN:STANDARD
TZOFFSETFROM:-0400
TZOFFSETTO:-0500
TZNAME:EST
DTSTART:20231105T060000
END:STANDARD
END:VTIMEZONE
BEGIN:VEVENT
DTSTART;TZID=America/New_York:20220603T170000
DTEND;TZID=America/New_York:20220605T170000
DTSTAMP:20260425T070328
CREATED:20220209T014655Z
LAST-MODIFIED:20220209T014655Z
UID:36180-1654275600-1654448400@justbritish.com
SUMMARY:Champagne British Car Festival\, 31st Annual - IL
DESCRIPTION:The Champagne British Car Festival (CBCF) is just around the corner\, June 3-5\, 2022 in Bloomington\, Illinois. This is the 31st anniversary of the Festival and you can expect an amazing weekend of British car activities. \nTriumph cars are the featured marque at this year’s car show held Sunday\, June 5 on the grounds of the historic David Davis Mansion. This all-British car show features over 125 brilliant British cars and motorcycles. \nRegistered entrants can “Start Your Engines” and your Festival weekend by joining us Friday evening\, June 3\, 2022\, for a Welcome Reception\, sponsored by the Illinois Flat Land British Car Club (IFLBCC). \nThis informal Meet & Greet with fellow British car enthusiasts will be held from 6:00 pm to 9:00 pm at the Host Hotel\, the DoubleTree by Hilton Hotel Bloomington. \nA cash bar with a wide variety of beverage options will be available. If you’re already registered for Sunday’s show\, you may pick up your Welcome Packets at the reception. \nThe fun continues Saturday morning\, June 4\, with a Cruise-in to Historic Atlanta\, IL where the Main St. will be blocked off for our Pop-up All-British Car Show. The city will be hosting our box lunch break and opening up their Route 66 and Pinball museums. The drive will also include stops at private automobile and vintage toy collections. departing from the DoubleTree Conference Center parking lot. \nSaturday evening\, June 4’s Pub Night festivities include a cash bar and catered hors d’oeuvres throughout the evening in the DoubleTree’s open-air courtyard. Saturday’s CBCF Poker Run Awards will be presented during the event. Live music by Jim & Tommy (of The Bygones). \nEarly Riser?  Join other Dawn Patroller’s on Sunday\, June 5 at the David Davis Mansion for some Pre-Show comradery   Our food vendor\, Redbird Catering\, will be on the grounds by 8:00 am with a menu of biscuits & gravy\, a breakfast sandwich\, pastries\, coffee\, and water. \nThe weekend culminates on Sunday\, June 5th\, 2022 with the Champagne British Car Show on beautiful Clover Lawn of David Davis Mansion\, Bloomington\, IL.  The David Davis Mansion provides a wonderful backdrop to display over 125 British cars.  The festival includes music\, vendors\, food and beverage options\, tables\, and chairs to enjoy your meal and drinks. \nThis year\, Redbird Catering will be adding a British favorite\, Fish & Chips\, to their typical menu. Gramma Nanna’s will also be on hand with delicious cookies\, ice cream\, shakes\, and floats. \nYou can register electronically on our website using PayPal. There is a discount for early registrations so get your form submitted by May 28. We look forward to seeing you and your car at CBCF!
URL:https://justbritish.com/event/champagne-british-car-festival-31st-annual-il/
LOCATION:David Davis Mansion\, 1000 Monroe Drive\, Bloomington\, IL\, 61701\, United States
CATEGORIES:Car Show
ATTACH;FMTTYPE=image/jpeg:https://justbritish.com/wp-content/uploads/2022/02/Champagne-Brtitish-Car-Festival-2022.jpg
ORGANIZER;CN="llinois Flatland British Car Club":MAILTO:bjdavis@PaddysGarage.com
END:VEVENT
END:VCALENDAR