BEGIN:VCALENDAR
VERSION:2.0
PRODID:-//Just British - ECPv6.15.20//NONSGML v1.0//EN
CALSCALE:GREGORIAN
METHOD:PUBLISH
X-WR-CALNAME:Just British
X-ORIGINAL-URL:https://justbritish.com
X-WR-CALDESC:Events for Just British
REFRESH-INTERVAL;VALUE=DURATION:PT1H
X-Robots-Tag:noindex
X-PUBLISHED-TTL:PT1H
BEGIN:VTIMEZONE
TZID:America/New_York
BEGIN:DAYLIGHT
TZOFFSETFROM:-0500
TZOFFSETTO:-0400
TZNAME:EDT
DTSTART:20230312T070000
END:DAYLIGHT
BEGIN:STANDARD
TZOFFSETFROM:-0400
TZOFFSETTO:-0500
TZNAME:EST
DTSTART:20231105T060000
END:STANDARD
BEGIN:DAYLIGHT
TZOFFSETFROM:-0500
TZOFFSETTO:-0400
TZNAME:EDT
DTSTART:20240310T070000
END:DAYLIGHT
BEGIN:STANDARD
TZOFFSETFROM:-0400
TZOFFSETTO:-0500
TZNAME:EST
DTSTART:20241103T060000
END:STANDARD
BEGIN:DAYLIGHT
TZOFFSETFROM:-0500
TZOFFSETTO:-0400
TZNAME:EDT
DTSTART:20250309T070000
END:DAYLIGHT
BEGIN:STANDARD
TZOFFSETFROM:-0400
TZOFFSETTO:-0500
TZNAME:EST
DTSTART:20251102T060000
END:STANDARD
END:VTIMEZONE
BEGIN:VEVENT
DTSTART;VALUE=DATE:20240617
DTEND;VALUE=DATE:20240622
DTSTAMP:20260424T061623
CREATED:20240103T185823Z
LAST-MODIFIED:20240103T185823Z
UID:38924-1718582400-1719014399@justbritish.com
SUMMARY:MG GOF Central 2024\, Newark\, Ohio
DESCRIPTION:The Ohio Chapters of the MGTs and the BuckAyes of NAMGAR invite ALL MGs and their owners to have an Octagonal Time in the Heart of Ohio at the Cherry Valley Hotel in Newark\, Ohio June 17th-21\, 2024.Why will it be an Octagonal time?  One reason is that the hotel has been built in the shape of two octagons\, our favorite shape!   The Cherry Valley Hotel is located between Newark and Granville\, in Licking County.  It is in the Best Western Premier Collection.  These small communities are surrounded by many superb MG roads\, including Athens County’s Windy 9\, meant to be driven by our MGs. In addition to the events being planned\, you may want to visit the Explore Licking County’s website for even more ideas.During this event\, the NAMMMR will hold its national meet and NAMGAR will hold a regional meet.There are plenty of things to see and do\, it will be an MG Gathering of the Faithful you won’t want to miss! \n \n 
URL:https://justbritish.com/event/mg-gof-central-2024-newark-ohio/
LOCATION:Cherry Valley Hotel\, 2299 Cherry Valley Rd SE\, Newark\, OH\, 43055\, United States
CATEGORIES:Car Show,Gathering / Convention / Meetup,MG
ATTACH;FMTTYPE=image/png:https://justbritish.com/wp-content/uploads/2024/01/Ohio-MG-GOF-Central-2024.png
ORGANIZER;CN="Ohio Chapter of New England MG T Register":MAILTO:d-smittle@onu.edu
END:VEVENT
END:VCALENDAR