BEGIN:VCALENDAR
VERSION:2.0
PRODID:-//Just British - ECPv6.15.20//NONSGML v1.0//EN
CALSCALE:GREGORIAN
METHOD:PUBLISH
X-ORIGINAL-URL:https://justbritish.com
X-WR-CALDESC:Events for Just British
REFRESH-INTERVAL;VALUE=DURATION:PT1H
X-Robots-Tag:noindex
X-PUBLISHED-TTL:PT1H
BEGIN:VTIMEZONE
TZID:America/New_York
BEGIN:DAYLIGHT
TZOFFSETFROM:-0500
TZOFFSETTO:-0400
TZNAME:EDT
DTSTART:20210314T070000
END:DAYLIGHT
BEGIN:STANDARD
TZOFFSETFROM:-0400
TZOFFSETTO:-0500
TZNAME:EST
DTSTART:20211107T060000
END:STANDARD
BEGIN:DAYLIGHT
TZOFFSETFROM:-0500
TZOFFSETTO:-0400
TZNAME:EDT
DTSTART:20220313T070000
END:DAYLIGHT
BEGIN:STANDARD
TZOFFSETFROM:-0400
TZOFFSETTO:-0500
TZNAME:EST
DTSTART:20221106T060000
END:STANDARD
BEGIN:DAYLIGHT
TZOFFSETFROM:-0500
TZOFFSETTO:-0400
TZNAME:EDT
DTSTART:20230312T070000
END:DAYLIGHT
BEGIN:STANDARD
TZOFFSETFROM:-0400
TZOFFSETTO:-0500
TZNAME:EST
DTSTART:20231105T060000
END:STANDARD
END:VTIMEZONE
BEGIN:VEVENT
DTSTART;VALUE=DATE:20220920
DTEND;VALUE=DATE:20220924
DTSTAMP:20260425T150817
CREATED:20220715T191332Z
LAST-MODIFIED:20220715T191332Z
UID:37553-1663632000-1663977599@justbritish.com
SUMMARY:Put-In-Bay Historic Sports Car Races - Ohio
DESCRIPTION:The races were held back in the early 1950s through about 1962 or so with perhaps a year or two omitted. \nThe races were originally conducted on the public roads on the small island in Lake Erie just north of the north coast of Ohio. The races were re-invented about 10 years ago. But rather than racing on the public roads they now race on a temporary race course set up on the airport runways and taxiways. Racing classes are designed to bring in mostly 3.0 liter and smaller engine race cars. And they restrict vehicles to those built before 1970 (generally). I have spectated and more recently now serve as a safety team representative (tow disabled race cars off the track). As you might guess there are considerable vintage MGs including T-Series competing on the track. The theme this year (to be held September 19-22) is the “Triumph vs MG Challenge.” \nIf you haven’t witnessed this event you owe yourself this venue. Great racing and lots of fun.
URL:https://justbritish.com/event/put-in-bay-historic-sports-car-races-ohio/
LOCATION:Put-in-Bay\, Ohio\, Put-in-Bay\, OH\, United States
CATEGORIES:Car Show,MG,Vintage Racing
ATTACH;FMTTYPE=image/jpeg:https://justbritish.com/wp-content/uploads/2022/07/Put-In-Bay-Historic-Sports-Car-Races-2022.jpg
ORGANIZER;CN="Put-in-Bay Road Race Heritage Society":MAILTO:manley776@yahoo.com
END:VEVENT
BEGIN:VEVENT
DTSTART;TZID=America/New_York:20220924T100000
DTEND;TZID=America/New_York:20220924T150000
DTSTAMP:20260425T150817
CREATED:20220422T173555Z
LAST-MODIFIED:20220422T173555Z
UID:37332-1664013600-1664031600@justbritish.com
SUMMARY:17th Annual DVC Car Show - Shippack\, PA
DESCRIPTION:Our 17th annual show has a new venue! We searched hard to find the perfect place. A place where you and your family can enjoy the cars and much\, much more! We are sure that we found it and hope you agree. \nSkippack Village\, located on Route 73 just east of Route 113\, is our new home. Our festival show field is in the center of town\, surrounded by shops\, boutiques\, and crafters of all kinds. Enjoy a snack or grab lunch in the village\, then stick around after the car show for dinner in one of the many restaurants – simple to high-end. Round out your day by taking in a show at Playcrafters. Keep the fun going all weekend by staying in one of the limited rooms that are available at the Hotel Fiesole. \nCar show registration opens at 10 am (rain or shine). General admission opens at 11 am – of course\, it is still free! The voting will run from noon until 1:30 pm. After tallying the votes\, trophies will be awarded. Trophies are awarded per marque based on popular vote. We will also be handing out our “Best of Show”\, “Ladies Choice”\, and “Diamond in the Rough” awards. \nThe entry fee is $25/car and includes a dash plaque. Participants who preregister before September 15th receive a $5 discount over the gate price. Pre-registration forms are available at www.DVCMG.com.
URL:https://justbritish.com/event/17th-annual-dvc-car-show-shippack-pa/
LOCATION:Shippack Village\, Route 73 just east of Route 113\, Shippack\, PA\, 19474\, United States
CATEGORIES:Car Show,MG
ATTACH;FMTTYPE=image/png:https://justbritish.com/wp-content/uploads/2022/04/17th-Annual-DVC-Car-Show-Shippack-PA.png
ORGANIZER;CN="Delaware Valley Classic MG Chapter":MAILTO:Chairman@DVCMG.com
END:VEVENT
END:VCALENDAR