BEGIN:VCALENDAR
VERSION:2.0
PRODID:-//Just British - ECPv6.15.20//NONSGML v1.0//EN
CALSCALE:GREGORIAN
METHOD:PUBLISH
X-WR-CALNAME:Just British
X-ORIGINAL-URL:https://justbritish.com
X-WR-CALDESC:Events for Just British
REFRESH-INTERVAL;VALUE=DURATION:PT1H
X-Robots-Tag:noindex
X-PUBLISHED-TTL:PT1H
BEGIN:VTIMEZONE
TZID:America/New_York
BEGIN:DAYLIGHT
TZOFFSETFROM:-0500
TZOFFSETTO:-0400
TZNAME:EDT
DTSTART:20210314T070000
END:DAYLIGHT
BEGIN:STANDARD
TZOFFSETFROM:-0400
TZOFFSETTO:-0500
TZNAME:EST
DTSTART:20211107T060000
END:STANDARD
BEGIN:DAYLIGHT
TZOFFSETFROM:-0500
TZOFFSETTO:-0400
TZNAME:EDT
DTSTART:20220313T070000
END:DAYLIGHT
BEGIN:STANDARD
TZOFFSETFROM:-0400
TZOFFSETTO:-0500
TZNAME:EST
DTSTART:20221106T060000
END:STANDARD
BEGIN:DAYLIGHT
TZOFFSETFROM:-0500
TZOFFSETTO:-0400
TZNAME:EDT
DTSTART:20230312T070000
END:DAYLIGHT
BEGIN:STANDARD
TZOFFSETFROM:-0400
TZOFFSETTO:-0500
TZNAME:EST
DTSTART:20231105T060000
END:STANDARD
END:VTIMEZONE
BEGIN:VEVENT
DTSTART;TZID=America/New_York:20220605T080000
DTEND;TZID=America/New_York:20220605T150000
DTSTAMP:20260425T201726
CREATED:20220325T191354Z
LAST-MODIFIED:20220325T191354Z
UID:37074-1654416000-1654441200@justbritish.com
SUMMARY:44th Annual Meet of The Original British Car Day - Maryland
DESCRIPTION:The Chesapeake Chapter of the New England MG “T” Register is proud to invite you to attend the 44th Annual Meet of The Original British Car Day (OBCD). \nThis event is held for the enjoyment of all British car and motorcycle enthusiasts. Come and enjoy this gathering of a wide variety of British Marques\, all in one setting! \nThis year’s Featured Marque is the MGB Roadster\, 1962 to 1974 (chrome bumper cars)in celebration of the MGB’s 60th Anniversary. We look forward to participation from local MG clubs and welcome their members and cars on our show field! Make plans to pay us a visit\, whether you are displaying your car\, or just coming to enjoy the event. In past years\, we have had over 250 vehicles on our show field with over 2\,000 spectators in attendance.
URL:https://justbritish.com/event/44th-annual-meet-of-the-original-british-car-day-maryland/
LOCATION:Serra Valley Fams\, 5601 Ridge Road\, Mt Airy\, MD\, 21771\, United States
CATEGORIES:Car Show,MG
ATTACH;FMTTYPE=image/jpeg:https://justbritish.com/wp-content/uploads/2022/03/Maryland-Original-British-Car-Day-Chesapeake-Chapter-New-England-MG-T-Register-Badge.jpg
ORGANIZER;CN="Chesapeake Chapter New England T Register":MAILTO:thomasdrenda@gmail.com
END:VEVENT
BEGIN:VEVENT
DTSTART;VALUE=DATE:20220610
DTEND;VALUE=DATE:20220613
DTSTAMP:20260425T201726
CREATED:20220319T003740Z
LAST-MODIFIED:20220319T003740Z
UID:36923-1654819200-1655078399@justbritish.com
SUMMARY:70th Annual Rallye Glenwood Spring - Colorado
DESCRIPTION:The MG Car Club – Rocky Mountain Centre invites you to join us for the 70th Annual Rallye Glenwood Springs\, the oldest\, continually held\,time-speed-distance rally in the United States\, on Friday\, Saturday\, and Sunday\, June 10\, 11\, and 12\, 2022. This year’s rallye is being held in honor of the Platinum Jubilee of her Majesty the Queen. \nThe weekend is a marvelous opportunity\, not just for MG owners\, but for sports car enthusiasts of every marque (British\, American\, German\, Italian\, Asian to come together for sunny days\, cool nights\, and unique events in Glenwood Springs. The fun begins on Friday with the more rigorous time-speed-distance rallye designed to challenge both novice and experienced rallyists. The rallye departs from Gunther Toody’s Restaurant in Littleton\, CO\, runs through canyons and over mountain passes in the heart of the Rocky Mountains\, and finishes in Glenwood Springs. \nSaturday’s main event is the ‘Many Miles’ Tour which starts and finishes in Glenwood Springs. On the way\, you will enjoy some of the most beautiful scenery Colorado has to offer. \nThe weekend’s activities round out with the Car Show\, Funkhana\, and Awards Presentation on Sunday. \nYour registration package contains a raffle ticket. Make sure you bring it to the car show on Sunday to be eligible for door prizes. \nSince its inception\, the MGCC-RMC has sponsored the Rallye\, which began when a hardy group of sports car owners\, led by Mrs. Hazel Marble\, discovered the joys of motoring in Colorado in MGs that still had drop-down tops and running boards. \nVintage and classic cars from as far away as California and Connecticut have shared the twisting mountain roads with their newer counterparts for octane-related festivities. Enthusiasts have come from as far away as England to drive their sports cars through such fabled Colorado mining towns as Marble\, Leadville\, and Aspen on their way to Glenwood Springs.
URL:https://justbritish.com/event/70th-annual-rallye-glenwood-spring-colorado/
LOCATION:Glenwood Springs\, 105 Wulfsohn Road\, Glenwood Springs\, CO\, 81601\, United States
CATEGORIES:Car Show,Driving Tour,MG
ATTACH;FMTTYPE=image/jpeg:https://justbritish.com/wp-content/uploads/2022/03/0th-Annual-Rallye-Glenwood-Springs.jpg
ORGANIZER;CN="MG Car Club - Rocky Mountain Centre":MAILTO:marshalben1@yahoo.com
END:VEVENT
END:VCALENDAR