BEGIN:VCALENDAR
VERSION:2.0
PRODID:-//Just British - ECPv6.15.20//NONSGML v1.0//EN
CALSCALE:GREGORIAN
METHOD:PUBLISH
X-WR-CALNAME:Just British
X-ORIGINAL-URL:https://justbritish.com
X-WR-CALDESC:Events for Just British
REFRESH-INTERVAL;VALUE=DURATION:PT1H
X-Robots-Tag:noindex
X-PUBLISHED-TTL:PT1H
BEGIN:VTIMEZONE
TZID:America/New_York
BEGIN:DAYLIGHT
TZOFFSETFROM:-0500
TZOFFSETTO:-0400
TZNAME:EDT
DTSTART:20250309T070000
END:DAYLIGHT
BEGIN:STANDARD
TZOFFSETFROM:-0400
TZOFFSETTO:-0500
TZNAME:EST
DTSTART:20251102T060000
END:STANDARD
BEGIN:DAYLIGHT
TZOFFSETFROM:-0500
TZOFFSETTO:-0400
TZNAME:EDT
DTSTART:20260308T070000
END:DAYLIGHT
BEGIN:STANDARD
TZOFFSETFROM:-0400
TZOFFSETTO:-0500
TZNAME:EST
DTSTART:20261101T060000
END:STANDARD
BEGIN:DAYLIGHT
TZOFFSETFROM:-0500
TZOFFSETTO:-0400
TZNAME:EDT
DTSTART:20270314T070000
END:DAYLIGHT
BEGIN:STANDARD
TZOFFSETFROM:-0400
TZOFFSETTO:-0500
TZNAME:EST
DTSTART:20271107T060000
END:STANDARD
END:VTIMEZONE
BEGIN:VEVENT
DTSTART;VALUE=DATE:20260429
DTEND;VALUE=DATE:20260504
DTSTAMP:20260421T171820
CREATED:20260106T002925Z
LAST-MODIFIED:20260106T003140Z
UID:52069-1777420800-1777852799@justbritish.com
SUMMARY:MINIs on the Dragon 2026\, North Carolina
DESCRIPTION:MINIs on the Dragon is dedicated to the breathtaking Mountains of North Carolina\, the Tail of the Dragon and the MINI Community. Our goal is to provide as much info available on the area to make your visit the best possible. \nMOTD started out as arth get together to drive 11-mile stretch of road with 318 curves aka the Tail of the Dragon. That in itself is more than enough reason to travel to the breath taking mountains of North Carolina. But in the first weekend of May each year\, it has evolved into much more than that. Just like our beloved MINI’s have evolved into more than just a car to us. So you take the 11-mile stretch of road\, then you toss in the mountains\, country roads and waterfalls. Now add 600 to 1000 fellow MINIacs and it takes on a whole new meaning. Wake up each morning and see hundreds of Mini’s each day\, attend dinners and events\, go on group drives\, or just gather and drool over each other’s mods. Get a chance to put a face to a screen name\, see some old friends and make some new ones. \nRegistration Will Open Friday January 16 2026 – 9:00am EST\nDay Drives will open on Saturday February 14th 2026 – 9:00am EST\nRegistration Closes on Sunday April 12th 2026 \n \n  \n 
URL:https://justbritish.com/event/minis-on-the-dragon-2026-north-carolina/
LOCATION:Fontana Village Resort\, 300 Woods Road\, Fontana Damn\, NC\, 28733\, United States
CATEGORIES:Car Show,Driving Tour,Gathering / Convention / Meetup
ATTACH;FMTTYPE=image/png:https://justbritish.com/wp-content/uploads/2026/01/Minis-on-the-Dragon.png
ORGANIZER;CN="MINIs on the Dagon":MAILTO:corey@minisonthedrgon.com
END:VEVENT
BEGIN:VEVENT
DTSTART;VALUE=DATE:20260824
DTEND;VALUE=DATE:20260828
DTSTAMP:20260421T171820
CREATED:20251118T012416Z
LAST-MODIFIED:20251118T013049Z
UID:52013-1787529600-1787875199@justbritish.com
SUMMARY:All MG Event 2026 - MG Club Register Council - Ohio
DESCRIPTION:The North American Council of MG Registers is comprised of the four major MG Car Registers in North America. The Council sponsors the ALL MG event every five years. \nThe next “ALL-MG” Event will be August 23-27\, 2026 in Sandusky\, Ohio\nThe North American MMM Register was created in 1989 by Jerry Keuper to provide a means of communication among owners of MMM cars in North America. “MMM” refers to Midget\, Magna\, and Magnette: the overhead cam MGs produced between 1929 and 1936. \nThe register has approximately 150 members who own (in total) over 200 cars encompassing more than 20 different models. The register also has records of about 250 MMM cars in North America that are currently not in the active membership. \nThe New England MG ‘T’ Register is an international organization dedicated to the maintenance\, preservation and enjoyment of T-Series and Vintage M.G.s. \nThe Register supports the active use of these cars and encourages the exchange of technical\, historical and social information through this web site and through the pages of its publication\, The Sacred Octagon\, (also known as TSO)\, which also contains photos\, drawings\, spares data\, classified ads and other materials of interest to the membership. \nThe North American MGA Register was established in 1975 with the sole objective of promoting the restoration\, preservation\, and enjoyment of the MGA\, Magnette and their Variants. \nWe gained 125 members in 2023\, and currently have just over 1700 active members. We have 9351 cars in our data base. The Register currently shows 8\,964 MGAs\, 277 Magnettes\, 29 Variants\, and 81 unknown/undeclared models. (Variants are cars built using the MGA engine or chassis\, such as the Elva Courier). In addition\, there are a number of specific interest groups affiliated with NAMGAR – MGA Coupe\, MGA Deluxe\, Z Magnette Group (ZMG)\, Elva Courier\, MGA 1800\, MGA Twin Cam\, and MG Vintage Racers. \nWhile NAMGAR was created to specifically serve the North American MGA enthusiast\, we now boast a world wide membership with over 12 countries represented. NAMGAR is governed by a volunteer Board of Directors comprised of a Chairman\, Vice-Chairman\, Treasurer\, Registrar\, and Advertising & Communications Director. These five people are assisted by many other volunteers in order to bring you our magazine\, website\, and annual events. \nThe North American MGB Register was formed in 1990 to support all MGs built after 1962 as an organization which would be run by MG enthusiasts\, for MG enthusiasts. The North American MGB Register would be dedicated to maintaining and expanding interest in Britain’s most popular sports car .. the MGB. \nThe North American MGB Register membership would be open to all\, and where the ownership of an MGB is not a condition of membership. Activity\, Enthusiasm\, and Dedication are cherished. \n \n 
URL:https://justbritish.com/event/all-mg-event-2026-mg-club-register-council-ohio/
LOCATION:Kalahari Resort\, 7000 Kalahari Drive\, Sandusky\, 44870-8628\, United States
CATEGORIES:Car Show,Gathering / Convention / Meetup,MG,NAMBGR,NAMGAR,Tech Session
ATTACH;FMTTYPE=image/jpeg:https://justbritish.com/wp-content/uploads/2025/11/MG-Event-2026-MG-Club-Council-Ohio-Main-Image-e1763429005246.jpg
ORGANIZER;CN="North American Council of MG Registers":MAILTO:ExecutiveDirector@MGCOUNCIL.COM
END:VEVENT
END:VCALENDAR