BEGIN:VCALENDAR
VERSION:2.0
PRODID:-//Just British - ECPv6.15.20//NONSGML v1.0//EN
CALSCALE:GREGORIAN
METHOD:PUBLISH
X-WR-CALNAME:Just British
X-ORIGINAL-URL:https://justbritish.com
X-WR-CALDESC:Events for Just British
REFRESH-INTERVAL;VALUE=DURATION:PT1H
X-Robots-Tag:noindex
X-PUBLISHED-TTL:PT1H
BEGIN:VTIMEZONE
TZID:America/New_York
BEGIN:DAYLIGHT
TZOFFSETFROM:-0500
TZOFFSETTO:-0400
TZNAME:EDT
DTSTART:20250309T070000
END:DAYLIGHT
BEGIN:STANDARD
TZOFFSETFROM:-0400
TZOFFSETTO:-0500
TZNAME:EST
DTSTART:20251102T060000
END:STANDARD
BEGIN:DAYLIGHT
TZOFFSETFROM:-0500
TZOFFSETTO:-0400
TZNAME:EDT
DTSTART:20260308T070000
END:DAYLIGHT
BEGIN:STANDARD
TZOFFSETFROM:-0400
TZOFFSETTO:-0500
TZNAME:EST
DTSTART:20261101T060000
END:STANDARD
BEGIN:DAYLIGHT
TZOFFSETFROM:-0500
TZOFFSETTO:-0400
TZNAME:EDT
DTSTART:20270314T070000
END:DAYLIGHT
BEGIN:STANDARD
TZOFFSETFROM:-0400
TZOFFSETTO:-0500
TZNAME:EST
DTSTART:20271107T060000
END:STANDARD
END:VTIMEZONE
BEGIN:VEVENT
DTSTART;VALUE=DATE:20260306
DTEND;VALUE=DATE:20260309
DTSTAMP:20260421T190551
CREATED:20260102T183419Z
LAST-MODIFIED:20260102T183419Z
UID:52064-1772755200-1773014399@justbritish.com
SUMMARY:The 2026 Amelia Island Concours d’Elegance\, Florida
DESCRIPTION:The organizers are thrilled to announce an exciting new schedule for The Amelia Concours in 2026 with the Concours d’Elegance taking place Saturday\, March 7 and Cars & Community on Sunday\, March 8. \nCrowded Car Shows 2 Amelia Island 2022\nKick off the fun on Thursday at Reverie. Don’t miss the Concours d’Elegance\, RADwood\, Ride & Drives\, seminars and more on Saturday. Then cap the weekend on Sunday with our celebration of local car love\, showcasing over 400 of the area’s most impressive enthusiast vehicles. \nLove IndyCar? This year\, we’re bringing the thrill of the race to The Amelia Concours\, alongside all the annual favorites. Look for legendary race cars at the Concours d’Elegance. \nIt all starts with Dario Franchitti MBE\, our 2026 Honoree. Franchitti is four-time IndyCar Series champion\, a three-time winner of the Indianapolis 500\, and has 31 IndyCar victories and 89 podium finishes. Don’t miss your chance to celebrate IndyCar with Dario Franchitti at Reverie\, Legends of Speed\, and\, of course\, on the show field. \n  \n  \n 
URL:https://justbritish.com/event/the-2026-amelia-island-concours-delegance-florida/
LOCATION:Ritz-Carlton Amelia Island Resort\, 4750 Amelia Island Pkwy\, Amelia Island\, FL\, 32034\, United States
CATEGORIES:Car Show,Concours,Just British Attending
ATTACH;FMTTYPE=image/png:https://justbritish.com/wp-content/uploads/2022/01/The-Amelia-2022-Concours.png
END:VEVENT
BEGIN:VEVENT
DTSTART;TZID=America/New_York:20260328T080000
DTEND;TZID=America/New_York:20260328T170000
DTSTAMP:20260421T190551
CREATED:20260102T182443Z
LAST-MODIFIED:20260102T182443Z
UID:52057-1774684800-1774717200@justbritish.com
SUMMARY:Carolina British Classic XVIII - Columbia\, SC
DESCRIPTION:The Carolina British Classics XVIII Car Show is held in conjunction with  The Tartan Day South Festival. Saturday\, March 28\, 2026 \nThis is an all British car and bike show with usually around 120 to 140 British cars in attendance. \nRegistration/Parking 9:00 am-11:00am.\nEarly Bird Welcome reception 9:00am-10:30am.\nParticipant Voting 11:00am-1:00pm.\nPre-purchased lunch pick-up 12:00pm-12:30pm.\nAwards Presentation 2:15pm. \nPlease check the Carolina British Classic XVIII website for registration and other information. \n \n  \n  \n  \n 
URL:https://justbritish.com/event/carolina-british-classic-xviii-columbia-sc/
LOCATION:Historic Columbia Motor Speedway\, 2001 Charleston Highway\, Cayce\, SC\, 29033\, United States
CATEGORIES:Car Show,Just British Attending
ATTACH;FMTTYPE=image/png:https://justbritish.com/wp-content/uploads/2026/01/Carolina-British-Classic-XVIII-Columbia-SC.png
ORGANIZER;CN="British Car Club Midlands Centre":MAILTO:bccmc1@gmail.com
END:VEVENT
END:VCALENDAR