BEGIN:VCALENDAR
VERSION:2.0
PRODID:-//Just British - ECPv6.15.20//NONSGML v1.0//EN
CALSCALE:GREGORIAN
METHOD:PUBLISH
X-ORIGINAL-URL:https://justbritish.com
X-WR-CALDESC:Events for Just British
REFRESH-INTERVAL;VALUE=DURATION:PT1H
X-Robots-Tag:noindex
X-PUBLISHED-TTL:PT1H
BEGIN:VTIMEZONE
TZID:America/New_York
BEGIN:DAYLIGHT
TZOFFSETFROM:-0500
TZOFFSETTO:-0400
TZNAME:EDT
DTSTART:20230312T070000
END:DAYLIGHT
BEGIN:STANDARD
TZOFFSETFROM:-0400
TZOFFSETTO:-0500
TZNAME:EST
DTSTART:20231105T060000
END:STANDARD
BEGIN:DAYLIGHT
TZOFFSETFROM:-0500
TZOFFSETTO:-0400
TZNAME:EDT
DTSTART:20240310T070000
END:DAYLIGHT
BEGIN:STANDARD
TZOFFSETFROM:-0400
TZOFFSETTO:-0500
TZNAME:EST
DTSTART:20241103T060000
END:STANDARD
BEGIN:DAYLIGHT
TZOFFSETFROM:-0500
TZOFFSETTO:-0400
TZNAME:EDT
DTSTART:20250309T070000
END:DAYLIGHT
BEGIN:STANDARD
TZOFFSETFROM:-0400
TZOFFSETTO:-0500
TZNAME:EST
DTSTART:20251102T060000
END:STANDARD
END:VTIMEZONE
BEGIN:VEVENT
DTSTART;TZID=America/New_York:20240406T090000
DTEND;TZID=America/New_York:20240406T160000
DTSTAMP:20260425T062211
CREATED:20240103T175059Z
LAST-MODIFIED:20240103T175059Z
UID:38914-1712394000-1712419200@justbritish.com
SUMMARY:Carolina British Classic XVI - Cayce\, SC
DESCRIPTION:Please Note: Everyone attending the show must be registered. Registration for Carolina British Classic XVI includes entrance into the Tartan Day South festivities. \nSchedule: \nTartan Day South Festivities All Weekend\nRegistration/Parking 9:00am – 11:00am\nEarly Bird Welcome reception 9:00am – 10:30am\nPick up boxed lunch 12:30pm – 1:00pm\nVoting 11:00am – 1:00pm\nAwards Presentation 2:00pm \nSunbeams at Carolina British Classic XVI
URL:https://justbritish.com/event/carolina-british-classic-xvi-cayce-sc/
LOCATION:Historic Columbia Motor Speedway\, 2001 Charleston Highway\, Cayce\, SC\, 29033\, United States
CATEGORIES:Car Show,Just British Attending
ATTACH;FMTTYPE=image/png:https://justbritish.com/wp-content/uploads/2024/01/Carolina-British-Classic-XVI-Logo.png
ORGANIZER;CN="British Car Club Midlands Centre":MAILTO:bccmc1@gmail.com
END:VEVENT
BEGIN:VEVENT
DTSTART;TZID=America/New_York:20240419T080000
DTEND;TZID=America/New_York:20240421T170000
DTSTAMP:20260425T062211
CREATED:20240125T222045Z
LAST-MODIFIED:20240125T222045Z
UID:39226-1713513600-1713718800@justbritish.com
SUMMARY:The Gathering 2024 - Dobson\, NC
DESCRIPTION:The Gathering is an event held in the foothills of North Carolina every year. Many cars of British heritage are displayed within the vineyards of Shelton’s Winery\, Dobson NC. The car show is free for all spectators and incorporates all years of cars manufactured by any British car company. Other events include: \n\nScenic Drive Challenge in the Blue Ridge Foothills\nGirls Night Out dinner\nChildren’s events\nBritish Parts Auction\nBBQ Dinner\nAutocross race
URL:https://justbritish.com/event/the-gathering-2024-dobson-nc/
LOCATION:Shelton Vineyards\, 286 Cabernet Lane\, Dobson\, NC\, 27017\, United States
CATEGORIES:Car Show
ATTACH;FMTTYPE=image/png:https://justbritish.com/wp-content/uploads/2024/01/The-Gathering-2024-Dobson-NC.png
ORGANIZER;CN="Triumph Club of the Carolinas":MAILTO:stevewardatty@gmail.com
END:VEVENT
BEGIN:VEVENT
DTSTART;VALUE=DATE:20240421
DTEND;VALUE=DATE:20240425
DTSTAMP:20260425T062211
CREATED:20240410T195809Z
LAST-MODIFIED:20240410T195831Z
UID:39810-1713657600-1714003199@justbritish.com
SUMMARY:MG 2024 - Katy\, Texas
DESCRIPTION:The North American MGB Register’s 2024 annual convention is being hosted in Katy\, Texas from 21st to 24th of April\, 2024. \nWhat’s the annual convention? Well\, it’s a multi-day (3 or 4) celebration of all things MG and a gathering of MG enthusiasts from around the globe. Some fly in\, some drive their MG or other British car or some bring an MG or British car on a trailer. Although things change\, each event has its own unique character and flavor. \nMG2024 is supported by our affiliated chapter\, the Houston MG Car Club and this will be a multi-day MG extravaganza. \nMG 2024 Katy\, Texas North American MGB Register\n  \nNASA tour\, George Ranch\, Welcome Social\, Hemi Hideout\, Partners Tea\, San Filipe Museum\, guided and self-guided tours and much more \n 
URL:https://justbritish.com/event/mg-2024-katy-texas/
LOCATION:Katy\, Texas\, Katy\, TX\, United States
CATEGORIES:Car Show,Conference,Gathering / Convention / Meetup,NAMBGR
ATTACH;FMTTYPE=image/jpeg:https://justbritish.com/wp-content/uploads/2024/04/mg2024-Katy-TX.jpg
ORGANIZER;CN="North American MGB Register":MAILTO:MG2019INFO@GMAIL.COM
END:VEVENT
BEGIN:VEVENT
DTSTART;TZID=America/New_York:20240421T080000
DTEND;TZID=America/New_York:20240421T150000
DTSTAMP:20260425T062211
CREATED:20240410T185455Z
LAST-MODIFIED:20240410T185455Z
UID:39784-1713686400-1713711600@justbritish.com
SUMMARY:All British & European Car Day - Dallas\, TX
DESCRIPTION:Join us for our 39th annual celebration of fine British and European vintage motoring. Bring any British or European car\, bike\, or scooter\, driver or show\, new or old to compete for trophies based on popular voting. \nThis show benefits Shoes for Orphan Souls\, a humanitarian outreach program of Buckner International. Please bring a pair of NEW shoes (adult size and closed-toe) for those in need. \nFood trucks\, car clubs\, local service & restoration shops\, and vendors will be present to enhance your experience. This is the largest exhibition of British & European vehicles in the DFW Metroplex. \nRegistration fee: $30 per vehicle/ $15 per motorcycle\, three-wheeled vehicle\, or scooter. \nSpectators are free – parking for spectators at Dreyfuss Club Point. \nPet-friendly event\, must be on a leash\, bring water\, and please pick up deposits!
URL:https://justbritish.com/event/all-british-european-car-day-dallas-tx/
LOCATION:Bath House Cultural Center\, White Rock Lake Park 521 E. Lawther Dr.\, Dallas\, TX\, 75218\, United States
CATEGORIES:Car Show
ATTACH;FMTTYPE=image/jpeg:https://justbritish.com/wp-content/uploads/2024/04/All-British-European-Car-Day-Dallas-TX.jpg
ORGANIZER;CN="Kip Motors":MAILTO:ABCD@KipMotor.com
END:VEVENT
BEGIN:VEVENT
DTSTART;TZID=America/New_York:20240428T080000
DTEND;TZID=America/New_York:20240428T170000
DTSTAMP:20260425T062211
CREATED:20240104T012942Z
LAST-MODIFIED:20240104T012942Z
UID:38946-1714291200-1714323600@justbritish.com
SUMMARY:26th Annual Britain on the Green 2024 - Lorton\, Virginia
DESCRIPTION:The Capital Triumph Register is proud to announce that the 26th annual Britain on the Green (BOG) will be held at historic Gunston Hall\, the colonial home of George Mason\, in Lorton\, on Sunday\, April 28\, 2024.  BOG welcomes all British cars and motorcycles. Britain on the Green is well-established as one of the premier all-British shows in the metropolitan DC area. \n\n\n\nParticipant’s Choice honors will be awarded in 25 or more classes of British cars and motorcycles.  There will also be a number of special awards including Best Resto-Mod\, Best Survivor\, Best Display\, and of course\, Best of Show. \n\n\n\nSo please plan on joining us on April 28th for the 26th annual Britain on the Green. It is a great day to bring out your car and celebrate the British car show and driving season with friends\, family\, and fellow enthusiasts. \n26th Annual Britain on the Green\n  \n 
URL:https://justbritish.com/event/26th-annual-britain-on-the-green-2024-lorton-virginia/
LOCATION:Gunston Hall\, 10709 Gunston Road\, Mason Neck\, VA\, 22079\, United States
CATEGORIES:Car Show
ATTACH;FMTTYPE=image/jpeg:https://justbritish.com/wp-content/uploads/2022/12/BoG-Britain-on-the-Green-2023.jpg
ORGANIZER;CN="Capital Triumph Register":MAILTO:bog@capitaltriumphregister.org
END:VEVENT
BEGIN:VEVENT
DTSTART;TZID=America/New_York:20240428T090000
DTEND;TZID=America/New_York:20240428T150000
DTSTAMP:20260425T062211
CREATED:20240410T194351Z
LAST-MODIFIED:20240410T194351Z
UID:39805-1714294800-1714316400@justbritish.com
SUMMARY:Queen's English Car Meet & Autojumble - Van Nuys\, CA
DESCRIPTION:The Queen’s Enlish Car Meet will be a non-judged “meet” designed for the enthusiast and serious collector alike. All British marques ( cars and motorcycles) are welcome. \nAn area will be set aside for an Auto Jumble (Swap Meet) USED AUTO PARTS ONLY! Spaces are the same price as show entries. \nCommercial vendors $100 per space. MUST PRE REGISTER BY MARCH 25. \nThere will be food\, music\, and general merriment. ADMISSION IS FREE FOR SPECTATORS. \nWe are sure it will be a day you don’t want to miss. Click here for a map and directions. \nDay of Show Registration $30 at the Gate CASH ONLY \nGATES OPEN AT 8:00 AM FOR PARTICIPANTS
URL:https://justbritish.com/event/queens-english-car-meet-autojumble-van-nuys-ca/
LOCATION:Woodley Park\, 6350 Woodley Way\, Van Nuys\, CA\, 91411\, United States
CATEGORIES:Car Show,Swap Meet / Autojumble
ATTACH;FMTTYPE=image/jpeg:https://justbritish.com/wp-content/uploads/2024/04/Queens-English-Car-Meet-and-AutoJumblle.jpg
ORGANIZER;CN="Queen's English":MAILTO:info@queens-english.org
END:VEVENT
END:VCALENDAR