BEGIN:VCALENDAR
VERSION:2.0
PRODID:-//Just British - ECPv6.15.20//NONSGML v1.0//EN
CALSCALE:GREGORIAN
METHOD:PUBLISH
X-WR-CALNAME:Just British
X-ORIGINAL-URL:https://justbritish.com
X-WR-CALDESC:Events for Just British
REFRESH-INTERVAL;VALUE=DURATION:PT1H
X-Robots-Tag:noindex
X-PUBLISHED-TTL:PT1H
BEGIN:VTIMEZONE
TZID:America/New_York
BEGIN:DAYLIGHT
TZOFFSETFROM:-0500
TZOFFSETTO:-0400
TZNAME:EDT
DTSTART:20230312T070000
END:DAYLIGHT
BEGIN:STANDARD
TZOFFSETFROM:-0400
TZOFFSETTO:-0500
TZNAME:EST
DTSTART:20231105T060000
END:STANDARD
BEGIN:DAYLIGHT
TZOFFSETFROM:-0500
TZOFFSETTO:-0400
TZNAME:EDT
DTSTART:20240310T070000
END:DAYLIGHT
BEGIN:STANDARD
TZOFFSETFROM:-0400
TZOFFSETTO:-0500
TZNAME:EST
DTSTART:20241103T060000
END:STANDARD
BEGIN:DAYLIGHT
TZOFFSETFROM:-0500
TZOFFSETTO:-0400
TZNAME:EDT
DTSTART:20250309T070000
END:DAYLIGHT
BEGIN:STANDARD
TZOFFSETFROM:-0400
TZOFFSETTO:-0500
TZNAME:EST
DTSTART:20251102T060000
END:STANDARD
END:VTIMEZONE
BEGIN:VEVENT
DTSTART;VALUE=DATE:20240202
DTEND;VALUE=DATE:20240205
DTSTAMP:20260425T095557
CREATED:20240103T193149Z
LAST-MODIFIED:20240103T193149Z
UID:38930-1706832000-1707091199@justbritish.com
SUMMARY:Motorcar Cavalcade Concours d’Elegance - Miami\, Florida
DESCRIPTION:This coming February 4th\, 2024\, the annual Motorcar Cavalcade Concours d’Elegance returns to Miami\, Florida in glorious fashion at the renowned JW Marriott Miami Turnberry Resort & Spa. \nSince its inception in 2021\, Motorcar Cavalcade has quickly become one of the country’s leading Concours events featuring the most coveted of vintage and modern automobiles. \nUnique to this Concours is the exhibition of vehicles from the dawn of motoring to the most advanced hypercars in the world\, allowing all to immerse in the art and evolution of the automobile in unprecedented ways. \nThe cars compete in atypical classes and are judged by an A-list panel of experts\, celebrities\, VIPs\, and athletes – adding to the star power already on the field from the cars. \nIn addition\, all attendees enjoy access to the Motorcar Cavalcade all-inclusive garden party which includes gourmet culinary pavilions\, decadent desserts\, fine wines\, specialty cocktails\, champagne\, and more—throughout the Concours day. \nThe event delivers a never-before-seen collection of extraordinary vehicles; a palette of unique design\, astonishing engineering\, and exquisite style all brought together in a tête-à-tête display of history\, art\, culture\, and beauty in a chic all-inclusive garden party setting.
URL:https://justbritish.com/event/motorcar-cavalcade-concours-delegance-miami-florida/
LOCATION:JW Marriot Miami Turnberry Resort & Spa\, 19999 W Country Club Dr\, Aventura\, FL\, 33180\, United States
CATEGORIES:Car Show,Concours
ATTACH;FMTTYPE=image/png:https://justbritish.com/wp-content/uploads/2024/01/Motorcar-Cavalcade-Concours-dElegance-Miami-Florida.png
END:VEVENT
END:VCALENDAR